BEGIN:VCALENDAR
VERSION:2.0
PRODID:spatie/icalendar-generator
DESCRIPTION:Events from Long Distance Learning
X-WR-CALDESC:Events from Long Distance Learning
REFRESH-INTERVAL;VALUE=DURATION:PT1440M
X-PUBLISHED-TTL:PT1440M
BEGIN:VTIMEZONE
TZID:Etc/GMT+0
BEGIN:STANDARD
DTSTART:20250805T111000Z
TZOFFSETFROM:+0000
TZOFFSETTO:+0000
END:STANDARD
END:VTIMEZONE
BEGIN:VTIMEZONE
TZID:UTC
BEGIN:STANDARD
DTSTART:20250729T225000Z
TZOFFSETFROM:+0000
TZOFFSETTO:+0000
END:STANDARD
END:VTIMEZONE
BEGIN:VEVENT
UID:187-5
DTSTAMP:20260425T225000Z
SUMMARY:LITH 5
LOCATION:
ORGANIZER;CN=Edvinas Jakunskas:MAILTO:edvinas.jakunskas@gmail.com
RRULE:FREQ=WEEKLY;UNTIL=20260530T000000Z
DTSTART;TZID=Etc/GMT+0:20260502T111000
DTEND;TZID=Etc/GMT+0:20260502T121000
X-ALT-DESC;FMTTYPE=TEXT/HTML:
CATEGORIES:LITH 5
URL;VALUE=URI:https://svietimotaryba.org/LongDistance/mc-events/lith-5/?mc_
 id=187
METHOD:PUBLISH
END:VEVENT
END:VCALENDAR