BEGIN:VCALENDAR
VERSION:2.0
PRODID:spatie/icalendar-generator
DESCRIPTION:Events from Long Distance Learning
X-WR-CALDESC:Events from Long Distance Learning
REFRESH-INTERVAL;VALUE=DURATION:PT1440M
X-PUBLISHED-TTL:PT1440M
BEGIN:VTIMEZONE
TZID:Etc/GMT+0
BEGIN:STANDARD
DTSTART:20250729T090000Z
TZOFFSETFROM:+0000
TZOFFSETTO:+0000
END:STANDARD
END:VTIMEZONE
BEGIN:VTIMEZONE
TZID:UTC
BEGIN:STANDARD
DTSTART:20250729T225114Z
TZOFFSETFROM:+0000
TZOFFSETTO:+0000
END:STANDARD
END:VTIMEZONE
BEGIN:VEVENT
UID:126-2
DTSTAMP:20260425T225114Z
SUMMARY:LITH 1
LOCATION:
ORGANIZER;CN=Edvinas Jakunskas:MAILTO:edvinas.jakunskas@gmail.com
RRULE:FREQ=WEEKLY;UNTIL=20260523T000000Z
DTSTART;TZID=Etc/GMT+0:20260425T090000
DTEND;TZID=Etc/GMT+0:20260425T095000
X-ALT-DESC;FMTTYPE=TEXT/HTML:
CATEGORIES:LITH 1
URL;VALUE=URI:https://svietimotaryba.org/LongDistance/mc-events/lith-1/?mc_
 id=126
METHOD:PUBLISH
END:VEVENT
END:VCALENDAR